BEGIN:VCALENDAR
VERSION:2.0
PRODID:http://www.pfarrei-heilig-kreuz.de
BEGIN:VEVENT
UID:1a2a0ab5-3f8c-11f1-a3e9-0242ac11002b-1785596100000-de
DTSTAMP:20260424T031719Z
DTSTART:20260801T145500Z
DTEND:20260801T154000Z
SUMMARY;LANGUAGE=de:Rosenkranzgebet
URL:http://www.pfarrei-heilig-kreuz.de/aktuelles/gottesdienste/gottesdienst/Rosenkranzgebet-2026.08.01/
END:VEVENT
END:VCALENDAR
