BEGIN:VCALENDAR
VERSION:2.0
PRODID:http://www.pfarrei-heilig-kreuz.de
BEGIN:VEVENT
UID:3d1a5bf5-f292-11f0-8342-0242ac11002b-1777131000000-de
DTSTAMP:20260116T041715Z
DTSTART:20260425T153000Z
DTEND:20260425T163000Z
SUMMARY;LANGUAGE=de: Vorabendmesse mit Erstkommunion, mitgestaltet von Martina Ondruj 
END:VEVENT
END:VCALENDAR
