BEGIN:VCALENDAR
VERSION:2.0
PRODID:http://www.pfarrei-heilig-kreuz.de
BEGIN:VEVENT
UID:42360360-3c67-11f1-a3e9-0242ac11002b-1785243600000-de
DTSTAMP:20260420T031601Z
DTSTART:20260728T130000Z
DTEND:20260728T134500Z
SUMMARY;LANGUAGE=de:Rosenkranzandacht
URL:http://www.pfarrei-heilig-kreuz.de/aktuelles/gottesdienste/gottesdienst/Rosenkranzandacht-2026.07.28/
END:VEVENT
END:VCALENDAR
