BEGIN:VCALENDAR
VERSION:2.0
PRODID:http://www.pfarrei-heilig-kreuz.de
BEGIN:VEVENT
UID:433bb399-3c67-11f1-a3e9-0242ac11002b-1785254100000-de
DTSTAMP:20260420T031603Z
DTSTART:20260728T155500Z
DTEND:20260728T162500Z
SUMMARY;LANGUAGE=de:Rosenkranzgebet
URL:http://www.pfarrei-heilig-kreuz.de/aktuelles/gottesdienste/gottesdienst/Rosenkranzgebet-2026.07.28/
END:VEVENT
END:VCALENDAR
