BEGIN:VCALENDAR
VERSION:2.0
PRODID:http://www.pfarrei-heilig-kreuz.de
BEGIN:VEVENT
UID:a15b2547-1c37-11f1-8342-0242ac11002b-1776693600000-de
DTSTAMP:20260310T041428Z
DTSTART:20260420T140000Z
DTEND:20260420T144500Z
SUMMARY;LANGUAGE=de:Gebet für den Frieden in der Welt und in den Anliegen der Pfarrei Heilig Kreuz (Haus der Begegnung)
END:VEVENT
END:VCALENDAR
