BEGIN:VCALENDAR
VERSION:2.0
PRODID:http://www.pfarrei-heilig-kreuz.de
BEGIN:VEVENT
UID:a54caa1f-eea3-11f0-8342-0242ac11002b-1776702600000-de
DTSTAMP:20260111T041146Z
DTSTART:20260420T163000Z
DTEND:20260420T173000Z
SUMMARY;LANGUAGE=de: Heilige Messe und Dankgottesdienst der Kommunionkinder 
END:VEVENT
END:VCALENDAR
